BEGIN:VCALENDAR
VERSION:2.0
PRODID:-//wp-events-plugin.com//7.2.3.1//EN
TZID:Europe/Zurich
X-WR-TIMEZONE:Europe/Zurich
BEGIN:VEVENT
UID:21@mg-fehraltorf.ch
DTSTART;TZID=Europe/Zurich:20260515T180800
DTEND;TZID=Europe/Zurich:20260515T181100
DTSTAMP:20260313T213702Z
URL:https://mg-fehraltorf.ch/wp/agenda/marschmusik-eidgenoessisches-musikf
 est-2026-in-biel/
SUMMARY:Marschmusik / Eidgenössisches Musikfest 2026 in Biel
DESCRIPTION:Es würde uns freuen\, das eine oder andere bekannte Gesicht in
  den Zuschauerreihen zu sehen.\n\nLink zum Spielplan
ATTACH;FMTTYPE=image/jpeg:https://mg-fehraltorf.ch/wp/wp-content/uploads/2
 025/05/EMF26_RGB_2500px.jpg
CATEGORIES:Marschmusik,Wettspiel
LOCATION:Parademusik\, Strecke Nr. 2\, Biel\, 2502\, Schweiz
X-APPLE-STRUCTURED-LOCATION;VALUE=URI;X-ADDRESS=Strecke Nr. 2\, Biel\, 2502
 \, Schweiz;X-APPLE-RADIUS=100;X-TITLE=Parademusik:geo:0,0
END:VEVENT
BEGIN:VTIMEZONE
TZID:Europe/Zurich
X-LIC-LOCATION:Europe/Zurich
BEGIN:DAYLIGHT
DTSTART:20260329T030000
TZOFFSETFROM:+0100
TZOFFSETTO:+0200
TZNAME:CEST
END:DAYLIGHT
END:VTIMEZONE
END:VCALENDAR