BEGIN:VCALENDAR
VERSION:2.0
PRODID:-//wp-events-plugin.com//7.2.3.1//EN
TZID:Europe/Zurich
X-WR-TIMEZONE:Europe/Zurich
BEGIN:VEVENT
UID:22@mg-fehraltorf.ch
DTSTART;TZID=Europe/Zurich:20260702T193000
DTEND;TZID=Europe/Zurich:20260702T220000
DTSTAMP:20260313T213317Z
URL:https://mg-fehraltorf.ch/wp/agenda/grillstaendli-mit-gastverein-chor-f
 ehraltorf-mg-fehraltorf-und-mgf-talents/
SUMMARY:Grillständli mit Gastverein Chor Fehraltorf\, MGF-Talents und MG-F
 ehraltorf
DESCRIPTION:MGF Talents spielen auf und anschliessend ein gemeinsamer Auftr
 itt mit dem Chor Fehraltorf und der MGF.\n\nBei schönem Wetter draussen a
 uf der Wiese\, bei Schlechtwetter im Kirchgemeindehaus.
CATEGORIES:Grillständchen,Ständchen
LOCATION:ref. Kirchgemeindehaus\, Kirchgasse 4\, Fehraltorf\, 8320\, Schwei
 z
X-APPLE-STRUCTURED-LOCATION;VALUE=URI;X-ADDRESS=Kirchgasse 4\, Fehraltorf\,
  8320\, Schweiz;X-APPLE-RADIUS=100;X-TITLE=ref. Kirchgemeindehaus:geo:0,0
END:VEVENT
BEGIN:VTIMEZONE
TZID:Europe/Zurich
X-LIC-LOCATION:Europe/Zurich
BEGIN:DAYLIGHT
DTSTART:20260329T030000
TZOFFSETFROM:+0100
TZOFFSETTO:+0200
TZNAME:CEST
END:DAYLIGHT
END:VTIMEZONE
END:VCALENDAR