BEGIN:VCALENDAR
VERSION:2.0
PRODID:-//wp-events-plugin.com//7.2.3.1//EN
TZID:Europe/Zurich
X-WR-TIMEZONE:Europe/Zurich
BEGIN:VEVENT
UID:23@mg-fehraltorf.ch
DTSTART;TZID=Europe/Zurich:20260731T190000
DTEND;TZID=Europe/Zurich:20260731T235900
DTSTAMP:20260313T213813Z
URL:https://mg-fehraltorf.ch/wp/agenda/bundesfeier-in-fehraltorf-2/
SUMMARY:Bundesfeier in Fehraltorf
DESCRIPTION:Die MG Fehraltorf unterstützt die Bundesfeier mit einem Ständ
 chen. Weitere Infos unter folgendem Link der Gemeinde Fehraltorf.
CATEGORIES:Bundesfeier,Ständchen
LOCATION:Heiget-Huus\, Schulhausstrasse 22\, Fehraltorf\, 8320\, Schweiz
X-APPLE-STRUCTURED-LOCATION;VALUE=URI;X-ADDRESS=Schulhausstrasse 22\, Fehra
 ltorf\, 8320\, Schweiz;X-APPLE-RADIUS=100;X-TITLE=Heiget-Huus:geo:0,0
END:VEVENT
BEGIN:VTIMEZONE
TZID:Europe/Zurich
X-LIC-LOCATION:Europe/Zurich
BEGIN:DAYLIGHT
DTSTART:20260329T030000
TZOFFSETFROM:+0100
TZOFFSETTO:+0200
TZNAME:CEST
END:DAYLIGHT
END:VTIMEZONE
END:VCALENDAR